BEGIN:VCALENDAR
VERSION:2.0
PRODID:-//hacksw/handcal//NONSGML v1.0//EN
BEGIN:VEVENT
SUMMARY:Tournoi regional
UID:a910a778-57fe-4f3c-ad8b-8c3c6408d82c
DTSTART:20260302T090000Z
DTEND:20260302T130000Z
LOCATION:Localisation   
CATEGORIES:Sportif
STATUS:
DESCRIPTION:<p>Le tournoi regional organise par le club aura lieu sur
 le grand stade de la ville a partir de 14h.<br> Trois de nos equipes
 seront en lice dans la competition.
 </p><p>Les prix seront remis en
 soiree.</p>
URL;VALUE=URI:https://fcvofoot.sportsregions.fr/evenements/2026/03/02/tournoi-regional-2422785
END:VEVENT
END:VCALENDAR
