BEGIN:VCALENDAR
VERSION:2.0
PRODID:-//hacksw/handcal//NONSGML v1.0//EN
BEGIN:VEVENT
SUMMARY:Entrainement Equipe 1
UID:378a12c7-2569-4d8b-b078-a2d58d3cf8c7
DTSTART:20260302T180000Z
DTEND:20260302T200000Z
LOCATION:Localisation   
CATEGORIES:Entrainement
STATUS:
DESCRIPTION:Entrainement tactique pour l'equipe 1 ce soir au stade
 Municipal. 
URL;VALUE=URI:https://fcvofoot.sportsregions.fr/evenements/2026/03/02/entrainement-equipe-1-2422787
END:VEVENT
END:VCALENDAR
